BEGIN:VCALENDAR
VERSION:2.0
PRODID:-//P E A K T I M E - ECPv6.1.3//NONSGML v1.0//EN
CALSCALE:GREGORIAN
METHOD:PUBLISH
X-WR-CALNAME:P E A K T I M E
X-ORIGINAL-URL:https://peaktime-tranceessentials.com
X-WR-CALDESC:Veranstaltungen für P E A K T I M E
REFRESH-INTERVAL;VALUE=DURATION:PT1H
X-Robots-Tag:noindex
X-PUBLISHED-TTL:PT1H
BEGIN:VTIMEZONE
TZID:UTC
BEGIN:STANDARD
TZOFFSETFROM:+0000
TZOFFSETTO:+0000
TZNAME:UTC
DTSTART:20200101T000000
END:STANDARD
END:VTIMEZONE
BEGIN:VEVENT
DTSTART;TZID=UTC:20200715T200000
DTEND;TZID=UTC:20200715T220000
DTSTAMP:20260421T042706
CREATED:20200714T082524Z
LAST-MODIFIED:20200714T122345Z
UID:1438-1594843200-1594850400@peaktime-tranceessentials.com
SUMMARY:Peaktime - Trance Essentials #049
DESCRIPTION:Peaktime – Trance Essentials #049\nTHIS IS YOUR LINK TO THE FINEST IN TRANCE AND PROGRESSIVE: https://youtu.be/fgg4eO814IE\nIn today’s episode we have a special guest. A very known person in the trance scene. His name ?\nUli Poeppelbaum aka Spacekid !!!\nSwitch in the Show on Wednesday 8pm
URL:https://peaktime-tranceessentials.com/event/pktm049/
LOCATION:YouTube
CATEGORIES:Peaktime - Trance Essentials
ATTACH;FMTTYPE=image/jpeg:https://peaktime-tranceessentials.com/wp-content/uploads/2020/07/PKTM049.jpg
END:VEVENT
END:VCALENDAR